BEGIN:VCALENDAR
VERSION:2.0
PRODID:-//ChamberMaster//Event Calendar 2.0//EN
METHOD:PUBLISH
X-PUBLISHED-TTL:P1H
REFRESH-INTERVAL:P1H
CALSCALE:GREGORIAN
BEGIN:VTIMEZONE
TZID:America/New_York
BEGIN:DAYLIGHT
RRULE:FREQ=YEARLY;BYMONTH=3;BYDAY=2SU
DTSTART:20070101T000000
TZOFFSETFROM:-0500
TZOFFSETTO:-0400
TZNAME:Eastern Daylight Time
END:DAYLIGHT
BEGIN:STANDARD
RRULE:FREQ=YEARLY;BYMONTH=11;BYDAY=1SU
DTSTART:20070101T000000
TZOFFSETFROM:-0400
TZOFFSETTO:-0500
TZNAME:Eastern Standard Time
END:STANDARD
END:VTIMEZONE
BEGIN:VEVENT
DTSTART;TZID=America/New_York:20260507T170000
DTEND;TZID=America/New_York:20260507T183000
X-MICROSOFT-CDO-ALLDAYEVENT:FALSE
SUMMARY:Chamber Connect: Harmony Med Spa
DESCRIPTION:Chamber Connect Hosted by Harmony Med SpaJoin us for an evening of networking\, connection\, and community at Chamber Connect\, hosted by Harmony Med Spa.Date: Thursday\, May 7\, 2026Time: 5:00 PM   6:30 PMLocation: 2184 Gulf Gate Drive\, Sarasota\, FL 34231Experience the warm and welcoming atmosphere of Harmony Med Spa while connecting with fellow Chamber members and local professionals. Chamber Connect is designed to help you build relationships\, expand your network\, and make meaningful business connections in a relaxed setting.At Harmony Med Spa\, the mission is to elevate the well-being and confidence of every patient through personalized\, natural-looking aesthetic and wellness care in a warm\, welcoming environment. Guided by advanced\, evidence-based treatments and a holistic\, integrative approach\, their experienced team partners with each individual to create customized plans that honor unique goals\, health\, and lifestyle. Harmony Med Spa is committed to delivering exceptional results\, compassionate service\, and an experience that helps patients feel empowered\, rejuvenated\, and truly at home in their own skin.Guests will enjoy light snacks catered by Nikki's Greek Caf \, complimentary beer and wine served by Catch a Buzz and a cash bar featuring specialty drinks.Make a lasting impression and extend your networking reach by bringing a door prize. Door prizes are encouraged\, and businesses are asked to attach a business card for special recognition.For questions\, please contact Celeste Lloyd-Jones at cljones@sarasotachamber.com.
X-ALT-DESC;FMTTYPE=text/html:<!DOCTYPE html><html><head><title></title></head><body aria-disabled="false"><p style="text-align: center\;"><strong fr-original-style="" style="font-weight: 700\;">Chamber Connect Hosted by Harmony Med Spa</strong></p><p>Join us for an evening of networking\, connection\, and community at Chamber Connect\, hosted by Harmony Med Spa.</p><p>Date: Thursday\, May 7\, 2026</p><p>Time: 5:00 PM &ndash\; 6:30 PM</p><p>Location: 2184 Gulf Gate Drive\, Sarasota\, FL 34231</p><p>Experience the warm and welcoming atmosphere of Harmony Med Spa while connecting with fellow Chamber members and local professionals. Chamber Connect is designed to help you build relationships\, expand your network\, and make meaningful business connections in a relaxed setting.</p><p>At Harmony Med Spa\, the mission is to elevate the well-being and confidence of every patient through personalized\, natural-looking aesthetic and wellness care in a warm\, welcoming environment. Guided by advanced\, evidence-based treatments and a holistic\, integrative approach\, their experienced team partners with each individual to create customized plans that honor unique goals\, health\, and lifestyle. Harmony Med Spa is committed to delivering exceptional results\, compassionate service\, and an experience that helps patients feel empowered\, rejuvenated\, and truly at home in their own skin.</p><p>Guests will enjoy light snacks catered by Nikki&rsquo\;s Greek Caf&eacute\;\, complimentary beer and wine served by Catch a Buzz and a cash bar featuring specialty drinks.</p><p>Make a lasting impression and extend your networking reach by bringing a door prize. Door prizes are encouraged\, and businesses are asked to attach a business card for special recognition.</p><p>For questions\, please contact Celeste Lloyd-Jones at cljones@sarasotachamber.com.</p></body></html>
LOCATION:2184 Gulf Gate Drive Sarasota FL 34231
UID:e.4175.1197399
SEQUENCE:3
DTSTAMP:20260419T125743Z
URL:https://business.sarasotachamber.com/chamber-calendar/Details/chamber-connect-harmony-med-spa-1397466?sourceTypeId=Hub
END:VEVENT
END:VCALENDAR
