BEGIN:VCALENDAR
VERSION:2.0
PRODID:-//ChamberMaster//Event Calendar 2.0//EN
METHOD:PUBLISH
X-PUBLISHED-TTL:P1H
REFRESH-INTERVAL:P1H
CALSCALE:GREGORIAN
BEGIN:VTIMEZONE
TZID:America/New_York
BEGIN:DAYLIGHT
RRULE:FREQ=YEARLY;BYMONTH=3;BYDAY=2SU
DTSTART:20070101T000000
TZOFFSETFROM:-0500
TZOFFSETTO:-0400
TZNAME:Eastern Daylight Time
END:DAYLIGHT
BEGIN:STANDARD
RRULE:FREQ=YEARLY;BYMONTH=11;BYDAY=1SU
DTSTART:20070101T000000
TZOFFSETFROM:-0400
TZOFFSETTO:-0500
TZNAME:Eastern Standard Time
END:STANDARD
END:VTIMEZONE
BEGIN:VEVENT
DTSTART;TZID=America/New_York:20260603T170000
DTEND;TZID=America/New_York:20260603T190000
X-MICROSOFT-CDO-ALLDAYEVENT:FALSE
SUMMARY:2026 Community Art Show Opening Reception
DESCRIPTION:Join Big Waters Land Trust for the opening reception of our third annual Community Art Show!\n\nThis juried art exhibit focuses on paintings and drawings and showcases local protected lands through the eyes of our conservation community. All art selected for inclusion was chosen by our esteemed jury without artist names attached. Jurors include artist Alicia Brown\, Jamaican contemporary realist painter\, renowned for her captivating work that seamlessly blends skillful technique with profound story telling\; Jen Kroeger\, a multi-disciplinary artist\, using paint\, mixed media\, and textiles\, she creates vibrant\, uplifting abstracts that reflect her love of bold color and natural surroundings\; and Christa Molinaro\, the Director of Exhibitions at the Sarasota Art Museum of Ringling College of Art and Design\, bringing over twenty years of experience in the museum field.\n\nDuring the reception\, we will announce the jury-selected Best-In-Show along with three honorable mentions. Please RSVP below if you plan to attend. We hope to see you there!\n\nThe exhibit will be on display at Bay Preserve from June 3\, 2026 through August 31\, 2026\, and may be viewed Monday through Friday\, 10:00 AM to 3:00 PM.\n\nFor questions\, holiday hours\, or to schedule an appointment\, please call our office at 941-918-2100.\n\nQuestions? Please contact Angelena Papazian at a.papazian@bwlt.org\n\nRegister Online at Big Waters Land Trust
X-ALT-DESC;FMTTYPE=text/html:Join Big Waters Land Trust for the opening reception of our third annual Community Art Show!\n\nThis juried art exhibit focuses on paintings and drawings and showcases local protected lands through the eyes of our conservation community. All art selected for inclusion was chosen by our esteemed jury without artist names attached. Jurors include artist Alicia Brown\, Jamaican contemporary realist painter\, renowned for her captivating work that seamlessly blends skillful technique with profound story telling\; Jen Kroeger\, a multi-disciplinary artist\, using paint\, mixed media\, and textiles\, she creates vibrant\, uplifting abstracts that reflect her love of bold color and natural surroundings\; and Christa Molinaro\, the Director of Exhibitions at the Sarasota Art Museum of Ringling College of Art and Design\, bringing over twenty years of experience in the museum field.\n\nDuring the reception\, we will announce the jury-selected Best-In-Show along with three honorable mentions. Please RSVP below if you plan to attend. We hope to see you there!\n\nThe exhibit will be on display at Bay Preserve from June 3\, 2026 through August 31\, 2026\, and may be viewed Monday through Friday\, 10:00 AM to 3:00 PM.\n\nFor questions\, holiday hours\, or to schedule an appointment\, please call our office at 941-918-2100.\n\nQuestions? Please contact Angelena Papazian at a.papazian@bwlt.org\n\nRegister Online at Big Waters Land Trust
LOCATION:400 Palmetto Avenue Osprey FL 34229
UID:e.4175.1438861
SEQUENCE:3
DTSTAMP:20260419T133646Z
URL:https://business.sarasotachamber.com/chamber-calendar/Details/2026-community-art-show-opening-reception-1703060?sourceTypeId=Hub
END:VEVENT
END:VCALENDAR
