BEGIN:VCALENDAR
VERSION:2.0
PRODID:-//ChamberMaster//Event Calendar 2.0//EN
METHOD:PUBLISH
X-PUBLISHED-TTL:P1H
REFRESH-INTERVAL:P1H
CALSCALE:GREGORIAN
BEGIN:VTIMEZONE
TZID:America/New_York
BEGIN:DAYLIGHT
RRULE:FREQ=YEARLY;BYMONTH=3;BYDAY=2SU
DTSTART:20070101T000000
TZOFFSETFROM:-0500
TZOFFSETTO:-0400
TZNAME:Eastern Daylight Time
END:DAYLIGHT
BEGIN:STANDARD
RRULE:FREQ=YEARLY;BYMONTH=11;BYDAY=1SU
DTSTART:20070101T000000
TZOFFSETFROM:-0400
TZOFFSETTO:-0500
TZNAME:Eastern Standard Time
END:STANDARD
END:VTIMEZONE
BEGIN:VEVENT
DTSTART;TZID=America/New_York:20260426T180000
DTEND;TZID=America/New_York:20260426T200000
X-MICROSOFT-CDO-ALLDAYEVENT:FALSE
SUMMARY:Boris & Sax Sunset Jazz - Mellow Mushroom
DESCRIPTION:Experience an evening of smooth rhythms and atmospheric melodies at Mellow Mushroom in Sarasota. This Sunset Jazz performance features live music by Boris & Sax\, creating the perfect backdrop for delicious bites and refreshing drinks.\n\n Whether you're winding down after the week\, meeting friends for happy hour\, or looking for the perfect date night vibe\, this is the place to be.  Come sip\, savor\, and soak in the music with us!
X-ALT-DESC;FMTTYPE=text/html:Experience an evening of smooth rhythms and atmospheric melodies at Mellow Mushroom in Sarasota. This Sunset Jazz performance features live music by Boris & Sax\, creating the perfect backdrop for delicious bites and refreshing drinks.\n\n Whether you're winding down after the week\, meeting friends for happy hour\, or looking for the perfect date night vibe\, this is the place to be.  Come sip\, savor\, and soak in the music with us!
LOCATION:6727 S. Tamiami Trail Sarasota FL 34231
UID:e.4175.1446236
SEQUENCE:3
DTSTAMP:20260419T133646Z
URL:https://business.sarasotachamber.com/chamber-calendar/Details/boris-sax-sunset-jazz-mellow-mushroom-1712970?sourceTypeId=Hub
END:VEVENT
END:VCALENDAR
