BEGIN:VCALENDAR
VERSION:2.0
PRODID:-//ChamberMaster//Event Calendar 2.0//EN
METHOD:PUBLISH
X-PUBLISHED-TTL:P1H
REFRESH-INTERVAL:P1H
CALSCALE:GREGORIAN
BEGIN:VTIMEZONE
TZID:America/New_York
BEGIN:DAYLIGHT
RRULE:FREQ=YEARLY;BYMONTH=3;BYDAY=2SU
DTSTART:20070101T000000
TZOFFSETFROM:-0500
TZOFFSETTO:-0400
TZNAME:Eastern Daylight Time
END:DAYLIGHT
BEGIN:STANDARD
RRULE:FREQ=YEARLY;BYMONTH=11;BYDAY=1SU
DTSTART:20070101T000000
TZOFFSETFROM:-0400
TZOFFSETTO:-0500
TZNAME:Eastern Standard Time
END:STANDARD
END:VTIMEZONE
BEGIN:VEVENT
DTSTART;VALUE=DATE:20260401
DTEND;VALUE=DATE:20260402
TRANSP:TRANSPARENT
X-MICROSOFT-CDO-ALLDAYEVENT:TRUE
SUMMARY:Community Art Show Submission Period - Call for Artists
DESCRIPTION:Artists of all ages and experience levels are invited to submit their original work to our third annual Community Art Show! If you have a passion for nature\, the outdoors\, and art\, we encourage you to participate.Submissions are divided into three age categories: Youth (12 and under)\, Teen (13-17)\, and Adult (18+). This juried exhibition focuses exclusively on paintings and drawings that highlight Florida's natural landscapes. All artwork must be Florida-centric and showcase nature.A panel of jurors will review submissions and select pieces for exhibition. This year's jurors include artist Alicia Brown\, Jamaican contemporary realist painter\, renowned for her captivating work that seamlessly blends skillful technique with profound story telling\; Jen Kroeger\, a multi-disciplinary artist\, using paint\, mixed media\, and textiles\, she creates vibrant\, uplifting abstracts that reflect her love of bold color and natural surroundings\; and Christa Molinaro\, the Director of Exhibitions at the Sarasota Art Museum of Ringling College of Art and Design\, bringing over twenty years of experience in the museum field.Each artist may submit up to two pieces for jury consideration. Submissions will be accepted from April 1 30 and must be received no later than midnight on April 30. Following the submission deadline\, jurors will evaluate all entries and select the works to be displayed at Bay Preserve from June through August 2026.Jurors will assess submissions based on composition\, color\, contrast\, and overall quality\, as well as subject interest\, point of view\, and storytelling. Artists whose work has been selected will be notified via email. Artwork must then be dropped off to our Bay Preserve headquarters by May 27\, 2026. The opening reception will take place on Wednesday\, June 3\, from 5:00 pm to 7:00 pm. Registration for this free event is required. Click here to learn more and RSVP today.We look forward to showcasing the creativity and talent of our community while celebrating Florida's natural beauty through art!Download Rules and Conditions and Entry Submission Form.\nAll submissions should be sent via email to Angelena Papazian at a.papazian@bwlt.orgKey DatesSubmission Period: April 1\, 2026   April 30\, 2026Artwork Drop-off Deadline: May 27\, 2026Community Art Show Reception: June 3\, 2026Exhibition Period: June 3   August 31\, 2026Submission GuidelinesEntrants can submit up to two pieces for jury consideration.Entries must be submitted with an official entry form and publicity release.You must provide one JPG image of each submission. JPGs cannot exceed 5MB in size (minimum 1MB).*There is no cost to enter.All submissions must be received via email no later than midnight on April 30\, 2026.Image files should be named as follows: Title of Image Artist's Last NameThe category must be identified on the submission form.Painting/drawings must be original work created by the named artist.All artwork is subject to acceptance for exhibition   entering the contest does not guarantee your work will be selected.Artists must agree to keep their submission on display through the duration of the exhibit period\, if selected.Accepted art forms include painting and drawings.Painting/drawings must be a minimum of 8 inches by 10 inches in size.Painting/drawings must be a maximum of 20 inches by 30 in size.Original work must be Florida-centric and showcase nature.
X-ALT-DESC;FMTTYPE=text/html:<!DOCTYPE html><html><head><title></title></head><body aria-disabled="false"><p style='box-sizing: inherit\; margin: 0px 0px 1.5em\; padding: 0px\; border: 0px\; font-size: 1.15em\; color: rgb(75\, 75\, 75)\; font-family: -apple-system\, system-ui\, BlinkMacSystemFont\, "Segoe UI"\, Helvetica\, Arial\, sans-serif\, "Apple Color Emoji"\, "Segoe UI Emoji"\, "Segoe UI Symbol"\; font-style: normal\; font-variant-ligatures: normal\; font-variant-caps: normal\; font-weight: 400\; letter-spacing: normal\; orphans: 2\; text-align: start\; text-indent: 0px\; text-transform: none\; widows: 2\; word-spacing: 0px\; -webkit-text-stroke-width: 0px\; white-space: normal\; background-color: rgb(255\, 255\, 255)\; text-decoration-thickness: initial\; text-decoration-style: initial\; text-decoration-color: initial\;'>Artists of all ages and experience levels are invited to submit their original work to our third annual Community Art Show! If you have a passion for nature\, the outdoors\, and art\, we encourage you to participate.</p><p style='box-sizing: inherit\; margin: 0px 0px 1.5em\; padding: 0px\; border: 0px\; font-size: 1.15em\; color: rgb(75\, 75\, 75)\; font-family: -apple-system\, system-ui\, BlinkMacSystemFont\, "Segoe UI"\, Helvetica\, Arial\, sans-serif\, "Apple Color Emoji"\, "Segoe UI Emoji"\, "Segoe UI Symbol"\; font-style: normal\; font-variant-ligatures: normal\; font-variant-caps: normal\; font-weight: 400\; letter-spacing: normal\; orphans: 2\; text-align: start\; text-indent: 0px\; text-transform: none\; widows: 2\; word-spacing: 0px\; -webkit-text-stroke-width: 0px\; white-space: normal\; background-color: rgb(255\, 255\, 255)\; text-decoration-thickness: initial\; text-decoration-style: initial\; text-decoration-color: initial\;'>Submissions are divided into three age categories: Youth (12 and under)\, Teen (13-17)\, and Adult (18+). This juried exhibition focuses exclusively on paintings and drawings that highlight Florida&rsquo\;s natural landscapes. All artwork must be Florida-centric and showcase nature.</p><p style='box-sizing: inherit\; margin: 0px 0px 1.5em\; padding: 0px\; border: 0px\; font-size: 1.15em\; color: rgb(75\, 75\, 75)\; font-family: -apple-system\, system-ui\, BlinkMacSystemFont\, "Segoe UI"\, Helvetica\, Arial\, sans-serif\, "Apple Color Emoji"\, "Segoe UI Emoji"\, "Segoe UI Symbol"\; font-style: normal\; font-variant-ligatures: normal\; font-variant-caps: normal\; font-weight: 400\; letter-spacing: normal\; orphans: 2\; text-align: start\; text-indent: 0px\; text-transform: none\; widows: 2\; word-spacing: 0px\; -webkit-text-stroke-width: 0px\; white-space: normal\; background-color: rgb(255\, 255\, 255)\; text-decoration-thickness: initial\; text-decoration-style: initial\; text-decoration-color: initial\;'>A panel of jurors will review submissions and select pieces for exhibition. This year&rsquo\;s jurors include artist&nbsp\;<strong fr-original-style="box-sizing: inherit\; font-weight: 700\;" style="box-sizing: inherit\; font-weight: 700\;">Alicia Brown</strong>\, Jamaican contemporary realist painter\, renowned for her captivating work that seamlessly blends skillful technique with profound story telling\; Jen Kroeger\,&nbsp\;a multi-disciplinary artist\, using paint\, mixed media\, and textiles\, she creates vibrant\, uplifting abstracts that reflect her love of bold color and natural surroundings\; and&nbsp\;<strong fr-original-style="box-sizing: inherit\; font-weight: 700\;" style="box-sizing: inherit\; font-weight: 700\;">Christa Molinaro</strong>\, the Director of Exhibitions at the Sarasota Art Museum of Ringling College of Art and Design\, bringing over twenty years of experience in the museum field.</p><p style='box-sizing: inherit\; margin: 0px 0px 1.5em\; padding: 0px\; border: 0px\; font-size: 1.15em\; color: rgb(75\, 75\, 75)\; font-family: -apple-system\, system-ui\, BlinkMacSystemFont\, "Segoe UI"\, Helvetica\, Arial\, sans-serif\, "Apple Color Emoji"\, "Segoe UI Emoji"\, "Segoe UI Symbol"\; font-style: normal\; font-variant-ligatures: normal\; font-variant-caps: normal\; font-weight: 400\; letter-spacing: normal\; orphans: 2\; text-align: start\; text-indent: 0px\; text-transform: none\; widows: 2\; word-spacing: 0px\; -webkit-text-stroke-width: 0px\; white-space: normal\; background-color: rgb(255\, 255\, 255)\; text-decoration-thickness: initial\; text-decoration-style: initial\; text-decoration-color: initial\;'>Each artist may submit up to two pieces for jury consideration. Submissions will be accepted from April 1&ndash\;30 and must be received no later than midnight on April 30. Following the submission deadline\, jurors will evaluate all entries and select the works to be displayed at Bay Preserve from June through August 2026.</p><p style='box-sizing: inherit\; margin: 0px 0px 1.5em\; padding: 0px\; border: 0px\; font-size: 1.15em\; color: rgb(75\, 75\, 75)\; font-family: -apple-system\, system-ui\, BlinkMacSystemFont\, "Segoe UI"\, Helvetica\, Arial\, sans-serif\, "Apple Color Emoji"\, "Segoe UI Emoji"\, "Segoe UI Symbol"\; font-style: normal\; font-variant-ligatures: normal\; font-variant-caps: normal\; font-weight: 400\; letter-spacing: normal\; orphans: 2\; text-align: start\; text-indent: 0px\; text-transform: none\; widows: 2\; word-spacing: 0px\; -webkit-text-stroke-width: 0px\; white-space: normal\; background-color: rgb(255\, 255\, 255)\; text-decoration-thickness: initial\; text-decoration-style: initial\; text-decoration-color: initial\;'>Jurors will assess submissions based on composition\, color\, contrast\, and overall quality\, as well as subject interest\, point of view\, and storytelling. Artists whose work has been selected will be notified via email. Artwork must then be dropped off to our Bay Preserve headquarters by May 27\, 2026.&nbsp\;</p><p style='box-sizing: inherit\; margin: 0px 0px 1.5em\; padding: 0px\; border: 0px\; font-size: 1.15em\; color: rgb(75\, 75\, 75)\; font-family: -apple-system\, system-ui\, BlinkMacSystemFont\, "Segoe UI"\, Helvetica\, Arial\, sans-serif\, "Apple Color Emoji"\, "Segoe UI Emoji"\, "Segoe UI Symbol"\; font-style: normal\; font-variant-ligatures: normal\; font-variant-caps: normal\; font-weight: 400\; letter-spacing: normal\; orphans: 2\; text-align: start\; text-indent: 0px\; text-transform: none\; widows: 2\; word-spacing: 0px\; -webkit-text-stroke-width: 0px\; white-space: normal\; background-color: rgb(255\, 255\, 255)\; text-decoration-thickness: initial\; text-decoration-style: initial\; text-decoration-color: initial\;'>The opening reception will take place on Wednesday\, June 3\, from 5:00 pm to 7:00 pm. Registration for this free event is required. Click here to learn more and RSVP today.</p><p style='box-sizing: inherit\; margin: 0px 0px 1.5em\; padding: 0px\; border: 0px\; font-size: 1.15em\; color: rgb(75\, 75\, 75)\; font-family: -apple-system\, system-ui\, BlinkMacSystemFont\, "Segoe UI"\, Helvetica\, Arial\, sans-serif\, "Apple Color Emoji"\, "Segoe UI Emoji"\, "Segoe UI Symbol"\; font-style: normal\; font-variant-ligatures: normal\; font-variant-caps: normal\; font-weight: 400\; letter-spacing: normal\; orphans: 2\; text-align: start\; text-indent: 0px\; text-transform: none\; widows: 2\; word-spacing: 0px\; -webkit-text-stroke-width: 0px\; white-space: normal\; background-color: rgb(255\, 255\, 255)\; text-decoration-thickness: initial\; text-decoration-style: initial\; text-decoration-color: initial\;'>We look forward to showcasing the creativity and talent of our community while celebrating Florida&rsquo\;s natural beauty through art!</p><div style='box-sizing: inherit\; color: rgb(75\, 75\, 75)\; font-family: -apple-system\, system-ui\, BlinkMacSystemFont\, "Segoe UI"\, Helvetica\, Arial\, sans-serif\, "Apple Color Emoji"\, "Segoe UI Emoji"\, "Segoe UI Symbol"\; font-size: 17px\; font-style: normal\; font-variant-ligatures: normal\; font-variant-caps: normal\; font-weight: 400\; letter-spacing: normal\; orphans: 2\; text-align: start\; text-indent: 0px\; text-transform: none\; widows: 2\; word-spacing: 0px\; -webkit-text-stroke-width: 0px\; white-space: normal\; background-color: rgb(255\, 255\, 255)\; text-decoration-thickness: initial\; text-decoration-style: initial\; text-decoration-color: initial\;'><p style="box-sizing: inherit\; margin: 0px 0px 1.5em\; padding: 0px\; border: 0px\; font-size: 1.15em\;"><a fr-original-style="box-sizing: inherit\; transition: color 0.1s ease-in-out\, background-color 0.1s ease-in-out\; text-decoration: underline\; color: rgb(79\, 50\, 29)\;" href="https://bigwaterslandtrust.org/wp-content/uploads/2026/03/2026-Community-Art-Show-Guidelines.pdf" rel="noreferrer noopener" style="box-sizing: inherit\; transition: color 0.1s ease-in-out\, background-color 0.1s ease-in-out\; text-decoration: underline\; color: rgb(79\, 50\, 29)\; user-select: auto\;" target="_blank" type="link"><span style="box-sizing: inherit\; text-decoration: underline\;">Download Rules and Conditions</span>&nbsp\;</a>and&nbsp\;<span style="box-sizing: inherit\; text-decoration: underline\;"><a fr-original-style="box-sizing: inherit\; transition: color 0.1s ease-in-out\, background-color 0.1s ease-in-out\; text-decoration: underline\; color: rgb(79\, 50\, 29)\;" href="https://bigwaterslandtrust.org/wp-content/uploads/2026/03/2026-Community-Art-Show-Submission-Form.pdf" rel="noreferrer noopener" style="box-sizing: inherit\; transition: color 0.1s ease-in-out\, background-color 0.1s ease-in-out\; text-decoration: underline\; color: rgb(79\, 50\, 29)\; user-select: auto\;" target="_blank" type="link">Entry Submission&nbsp\;</a>Form</span>.<br style="box-sizing: inherit\;">All submissions should be sent via email to Angelena Papazian at&nbsp\;<a fr-original-style="box-sizing: inherit\; transition: color 0.1s ease-in-out\, background-color 0.1s ease-in-out\; text-decoration: underline\; color: rgb(79\, 50\, 29)\;" href="https://bigwaterslandtrust.org/event/2026-community-art-show/a.papazian@bwlt.org" style="box-sizing: inherit\; transition: color 0.1s ease-in-out\, background-color 0.1s ease-in-out\; text-decoration: underline\; color: rgb(79\, 50\, 29)\; user-select: auto\;" type="link">a.papazian@bwlt.org</a></p></div><p style='box-sizing: inherit\; margin: 0px 0px 1.5em\; padding: 0px\; border: 0px\; font-size: 1.15em\; color: rgb(8\, 85\, 139)\; font-family: -apple-system\, system-ui\, BlinkMacSystemFont\, "Segoe UI"\, Helvetica\, Arial\, sans-serif\, "Apple Color Emoji"\, "Segoe UI Emoji"\, "Segoe UI Symbol"\; font-style: normal\; font-variant-ligatures: normal\; font-variant-caps: normal\; font-weight: 400\; letter-spacing: normal\; orphans: 2\; text-align: start\; text-indent: 0px\; text-transform: none\; widows: 2\; word-spacing: 0px\; -webkit-text-stroke-width: 0px\; white-space: normal\; background-color: rgb(255\, 255\, 255)\; text-decoration-thickness: initial\; text-decoration-style: initial\; text-decoration-color: initial\;'><strong fr-original-style="box-sizing: inherit\; font-weight: 700\;" style="box-sizing: inherit\; font-weight: 700\;">Key Dates</strong></p><ul fr-original-style='box-sizing: border-box\; margin: 0px 0px 1.5em 3em\; padding: 0px\; border: 0px\; list-style: disc\; color: rgb(75\, 75\, 75)\; font-family: -apple-system\, system-ui\, BlinkMacSystemFont\, "Segoe UI"\, Helvetica\, Arial\, sans-serif\, "Apple Color Emoji"\, "Segoe UI Emoji"\, "Segoe UI Symbol"\; font-size: 17px\; font-style: normal\; font-variant-ligatures: normal\; font-variant-caps: normal\; font-weight: 400\; letter-spacing: normal\; orphans: 2\; text-align: start\; text-indent: 0px\; text-transform: none\; widows: 2\; word-spacing: 0px\; -webkit-text-stroke-width: 0px\; white-space: normal\; background-color: rgb(255\, 255\, 255)\; text-decoration-thickness: initial\; text-decoration-style: initial\; text-decoration-color: initial\;' style='box-sizing: border-box\; margin: 0px 0px 1.5em 3em\; padding: 0px\; border: 0px\; list-style: disc\; color: rgb(75\, 75\, 75)\; font-family: -apple-system\, system-ui\, BlinkMacSystemFont\, "Segoe UI"\, Helvetica\, Arial\, sans-serif\, "Apple Color Emoji"\, "Segoe UI Emoji"\, "Segoe UI Symbol"\; font-size: 17px\; font-style: normal\; font-variant-ligatures: normal\; font-variant-caps: normal\; font-weight: 400\; letter-spacing: normal\; orphans: 2\; text-align: start\; text-indent: 0px\; text-transform: none\; widows: 2\; word-spacing: 0px\; -webkit-text-stroke-width: 0px\; white-space: normal\; background-color: rgb(255\, 255\, 255)\; text-decoration-thickness: initial\; text-decoration-style: initial\; text-decoration-color: initial\;'><li style="box-sizing: inherit\; margin: 0px\; padding: 0px\; border: 0px\;">Submission Period: April 1\, 2026 &ndash\; April 30\, 2026</li><li style="box-sizing: inherit\; margin: 0px\; padding: 0px\; border: 0px\;">Artwork Drop-off Deadline: May 27\, 2026</li><li style="box-sizing: inherit\; margin: 0px\; padding: 0px\; border: 0px\;">Community Art Show Reception: June 3\, 2026</li><li style="box-sizing: inherit\; margin: 0px\; padding: 0px\; border: 0px\;">Exhibition Period: June 3 &ndash\; August 31\, 2026</li></ul><p style='box-sizing: inherit\; margin: 0px 0px 1.5em\; padding: 0px\; border: 0px\; font-size: 1.15em\; color: rgb(8\, 85\, 139)\; font-family: -apple-system\, system-ui\, BlinkMacSystemFont\, "Segoe UI"\, Helvetica\, Arial\, sans-serif\, "Apple Color Emoji"\, "Segoe UI Emoji"\, "Segoe UI Symbol"\; font-style: normal\; font-variant-ligatures: normal\; font-variant-caps: normal\; font-weight: 400\; letter-spacing: normal\; orphans: 2\; text-align: start\; text-indent: 0px\; text-transform: none\; widows: 2\; word-spacing: 0px\; -webkit-text-stroke-width: 0px\; white-space: normal\; background-color: rgb(255\, 255\, 255)\; text-decoration-thickness: initial\; text-decoration-style: initial\; text-decoration-color: initial\;'><strong fr-original-style="box-sizing: inherit\; font-weight: 700\;" style="box-sizing: inherit\; font-weight: 700\;">Submission Guidelines</strong></p><ul fr-original-style='box-sizing: border-box\; margin: 0px 0px 1.5em 3em\; padding: 0px\; border: 0px\; list-style: disc\; color: rgb(75\, 75\, 75)\; font-family: -apple-system\, system-ui\, BlinkMacSystemFont\, "Segoe UI"\, Helvetica\, Arial\, sans-serif\, "Apple Color Emoji"\, "Segoe UI Emoji"\, "Segoe UI Symbol"\; font-size: 17px\; font-style: normal\; font-variant-ligatures: normal\; font-variant-caps: normal\; font-weight: 400\; letter-spacing: normal\; orphans: 2\; text-align: start\; text-indent: 0px\; text-transform: none\; widows: 2\; word-spacing: 0px\; -webkit-text-stroke-width: 0px\; white-space: normal\; background-color: rgb(255\, 255\, 255)\; text-decoration-thickness: initial\; text-decoration-style: initial\; text-decoration-color: initial\;' style='box-sizing: border-box\; margin: 0px 0px 1.5em 3em\; padding: 0px\; border: 0px\; list-style: disc\; color: rgb(75\, 75\, 75)\; font-family: -apple-system\, system-ui\, BlinkMacSystemFont\, "Segoe UI"\, Helvetica\, Arial\, sans-serif\, "Apple Color Emoji"\, "Segoe UI Emoji"\, "Segoe UI Symbol"\; font-size: 17px\; font-style: normal\; font-variant-ligatures: normal\; font-variant-caps: normal\; font-weight: 400\; letter-spacing: normal\; orphans: 2\; text-align: start\; text-indent: 0px\; text-transform: none\; widows: 2\; word-spacing: 0px\; -webkit-text-stroke-width: 0px\; white-space: normal\; background-color: rgb(255\, 255\, 255)\; text-decoration-thickness: initial\; text-decoration-style: initial\; text-decoration-color: initial\;'><li style="box-sizing: inherit\; margin: 0px\; padding: 0px\; border: 0px\;">Entrants can submit up to two pieces for jury consideration.</li><li style="box-sizing: inherit\; margin: 0px\; padding: 0px\; border: 0px\;">Entries must be submitted with an official entry form and publicity release.</li><li style="box-sizing: inherit\; margin: 0px\; padding: 0px\; border: 0px\;">You must provide one JPG image of each submission. JPGs cannot exceed 5MB in size (minimum 1MB).*</li><li style="box-sizing: inherit\; margin: 0px\; padding: 0px\; border: 0px\;">There is no cost to enter.</li><li style="box-sizing: inherit\; margin: 0px\; padding: 0px\; border: 0px\;">All submissions must be received via email no later than midnight on April 30\, 2026.</li><li style="box-sizing: inherit\; margin: 0px\; padding: 0px\; border: 0px\;">Image files should be named as follows: Title of Image&mdash\;Artist&rsquo\;s Last Name</li><li style="box-sizing: inherit\; margin: 0px\; padding: 0px\; border: 0px\;">The category must be identified on the submission form.</li><li style="box-sizing: inherit\; margin: 0px\; padding: 0px\; border: 0px\;">Painting/drawings must be original work created by the named artist.</li><li style="box-sizing: inherit\; margin: 0px\; padding: 0px\; border: 0px\;">All artwork is subject to acceptance for exhibition &ndash\; entering the contest does not guarantee your work will be selected.</li><li style="box-sizing: inherit\; margin: 0px\; padding: 0px\; border: 0px\;">Artists must agree to keep their submission on display through the duration of the exhibit period\, if selected.</li><li style="box-sizing: inherit\; margin: 0px\; padding: 0px\; border: 0px\;">Accepted art forms include painting and drawings.</li><li style="box-sizing: inherit\; margin: 0px\; padding: 0px\; border: 0px\;">Painting/drawings must be a minimum of 8 inches by 10 inches in size.</li><li style="box-sizing: inherit\; margin: 0px\; padding: 0px\; border: 0px\;">Painting/drawings must be a maximum of 20 inches by 30 in size.</li><li style="box-sizing: inherit\; margin: 0px\; padding: 0px\; border: 0px\;">Original work must be Florida-centric and showcase nature.</li></ul><p><br></p></body></html>
LOCATION:
UID:e.4175.1443147
SEQUENCE:3
DTSTAMP:20260419T133946Z
URL:https://business.sarasotachamber.com/chamber-calendar/Details/community-art-show-submission-period-call-for-artists-1709357?sourceTypeId=Hub
END:VEVENT
END:VCALENDAR
