BEGIN:VCALENDAR
VERSION:2.0
PRODID:-//ChamberMaster//Event Calendar 2.0//EN
METHOD:PUBLISH
X-PUBLISHED-TTL:P1H
REFRESH-INTERVAL:P1H
CALSCALE:GREGORIAN
BEGIN:VTIMEZONE
TZID:America/New_York
BEGIN:DAYLIGHT
RRULE:FREQ=YEARLY;BYMONTH=3;BYDAY=2SU
DTSTART:20070101T000000
TZOFFSETFROM:-0500
TZOFFSETTO:-0400
TZNAME:Eastern Daylight Time
END:DAYLIGHT
BEGIN:STANDARD
RRULE:FREQ=YEARLY;BYMONTH=11;BYDAY=1SU
DTSTART:20070101T000000
TZOFFSETFROM:-0400
TZOFFSETTO:-0500
TZNAME:Eastern Standard Time
END:STANDARD
END:VTIMEZONE
BEGIN:VEVENT
DTSTART;TZID=America/New_York:20260506T160000
DTEND;TZID=America/New_York:20260506T190000
X-MICROSOFT-CDO-ALLDAYEVENT:FALSE
SUMMARY:Florida Highwaymen at Bay Preserve 2026
DESCRIPTION:We are pleased to invite you to meet a Florida Highwaymen legacy artist for a special\, one-afternoon-only exhibition of their stunning work. The featured artist will be in attendance\, with artwork available for purchase. A portion of the proceeds will benefit Big Waters Land Trust. Please note that cash or check are preferred\, as credit cards may not be accepted.\n\nThis is a free\, drop-in event from 4:00 PM to 7:00 PM. We kindly ask that you register if you plan to attend. Additional details will be shared via email as the event approaches.\n\nJoin us to meet featured legacy artist Roy ‘R.A.’ McLendon Jr.\, who will be in attendance\, showcasing his stunning paintings available for purchase. Both cash and card will be accepted\, and a portion of the proceeds will benefit Big Waters Land Trust.\n\nGuests will enjoy light bites and valet service while connecting with Big Waters staff and learning more about their important conservation work.
X-ALT-DESC;FMTTYPE=text/html:We are pleased to invite you to meet a Florida Highwaymen legacy artist for a special\, one-afternoon-only exhibition of their stunning work. The featured artist will be in attendance\, with artwork available for purchase. A portion of the proceeds will benefit Big Waters Land Trust. Please note that cash or check are preferred\, as credit cards may not be accepted.\n\nThis is a free\, drop-in event from 4:00 PM to 7:00 PM. We kindly ask that you register if you plan to attend. Additional details will be shared via email as the event approaches.\n\nJoin us to meet featured legacy artist Roy ‘R.A.’ McLendon Jr.\, who will be in attendance\, showcasing his stunning paintings available for purchase. Both cash and card will be accepted\, and a portion of the proceeds will benefit Big Waters Land Trust.\n\nGuests will enjoy light bites and valet service while connecting with Big Waters staff and learning more about their important conservation work.
LOCATION:400 Palmetto Ave Osprey FL 34229-9384
UID:e.4175.1438731
SEQUENCE:3
DTSTAMP:20260419T133755Z
URL:https://business.sarasotachamber.com/chamber-calendar/Details/florida-highwaymen-at-bay-preserve-2026-1702941?sourceTypeId=Hub
END:VEVENT
END:VCALENDAR
