BEGIN:VCALENDAR
VERSION:2.0
PRODID:-//ChamberMaster//Event Calendar 2.0//EN
METHOD:PUBLISH
X-PUBLISHED-TTL:P1H
REFRESH-INTERVAL:P1H
CALSCALE:GREGORIAN
BEGIN:VTIMEZONE
TZID:America/New_York
BEGIN:DAYLIGHT
RRULE:FREQ=YEARLY;BYMONTH=3;BYDAY=2SU
DTSTART:20070101T000000
TZOFFSETFROM:-0500
TZOFFSETTO:-0400
TZNAME:Eastern Daylight Time
END:DAYLIGHT
BEGIN:STANDARD
RRULE:FREQ=YEARLY;BYMONTH=11;BYDAY=1SU
DTSTART:20070101T000000
TZOFFSETFROM:-0400
TZOFFSETTO:-0500
TZNAME:Eastern Standard Time
END:STANDARD
END:VTIMEZONE
BEGIN:VEVENT
DTSTART;TZID=America/New_York:20260425T160000
DTEND;TZID=America/New_York:20260425T190000
X-MICROSOFT-CDO-ALLDAYEVENT:FALSE
SUMMARY:Meet the Artist Night: Rosy's Ice Cream
DESCRIPTION:🎨✨ Join us for a colorful afternoon as we celebrate the artist behind our beautiful new mural\, Josselyn Egas-Ryan! Come sip\, snack\, and soak in the creativity while enjoying live music\, lite bites\, and Florida-made ice cream. Get an up-close look at Rosy and hear the story behind the brushstrokes that brought her to life. 💕🍦 📍 1270 S. Tamiami Trail🗓 Saturday\, April 25 ⏰ 4 7 PM Bring a friend and come celebrate art\, community\, and all things sweet!
X-ALT-DESC;FMTTYPE=text/html:<!DOCTYPE html><html><head><title></title></head><body aria-disabled="false"><p>🎨✨ Join us for a colorful afternoon as we celebrate the artist behind our beautiful new mural\, Josselyn Egas-Ryan! Come sip\, snack\, and soak in the creativity while enjoying live music\, lite bites\, and Florida-made ice cream. Get an up-close look at Rosy and hear the story behind the brushstrokes that brought her to life. 💕🍦&nbsp\;</p><p>📍 1270 S. Tamiami Trail</p><p>🗓 Saturday\, April 25&nbsp\;</p><p>⏰ 4&ndash\;7 PM Bring a friend and come celebrate art\, community\, and all things sweet!</p></body></html>
LOCATION:1270 S. Tamiamai Trail Osprey FL 34238
UID:e.4175.1443175
SEQUENCE:3
DTSTAMP:20260419T133946Z
URL:https://business.sarasotachamber.com/chamber-calendar/Details/meet-the-artist-night-rosy-s-ice-cream-1709385?sourceTypeId=Hub
END:VEVENT
END:VCALENDAR
