BEGIN:VCALENDAR
VERSION:2.0
PRODID:-//ChamberMaster//Event Calendar 2.0//EN
METHOD:PUBLISH
X-PUBLISHED-TTL:P1H
REFRESH-INTERVAL:P1H
CALSCALE:GREGORIAN
BEGIN:VTIMEZONE
TZID:America/New_York
BEGIN:DAYLIGHT
RRULE:FREQ=YEARLY;BYMONTH=3;BYDAY=2SU
DTSTART:20070101T000000
TZOFFSETFROM:-0500
TZOFFSETTO:-0400
TZNAME:Eastern Daylight Time
END:DAYLIGHT
BEGIN:STANDARD
RRULE:FREQ=YEARLY;BYMONTH=11;BYDAY=1SU
DTSTART:20070101T000000
TZOFFSETFROM:-0400
TZOFFSETTO:-0500
TZNAME:Eastern Standard Time
END:STANDARD
END:VTIMEZONE
BEGIN:VEVENT
DTSTART;TZID=America/New_York:20260514T173000
DTEND;TZID=America/New_York:20260514T210000
X-MICROSOFT-CDO-ALLDAYEVENT:FALSE
SUMMARY:Prada & Popcorn: A Private Screening
DESCRIPTION:Join us for a fun and stylish evening at a private screening of The Devil Wears Prada 2\, benefiting the RASM REALTORS  Charitable Foundation.Guests are invited to enjoy a night out celebrating the highly anticipated sequel to one of the most iconic fashion films of all time. Arrive early to walk the red carpet\, snap photos with friends\, and settle in for an entertaining experience.Your ticket includes unlimited champagne\, wine\, beer\, soda\, and popcorn\, along with entry into a raffle.Proceeds from this event support the RASM REALTORS  Charitable Foundation\, the 501(c)(3) charitable arm of the REALTOR  Association of Sarasota and Manatee. The Foundation provides funding for individuals and nonprofit organizations throughout Sarasota and Manatee Counties that enhance the quality of life in our community.Whether you come dressed comfortably or inspired by your favorite fashion moments\, all levels of chic are welcome.\n\nhttps://www.myrasm.com/prada-and-popcorn
X-ALT-DESC;FMTTYPE=text/html:<!DOCTYPE html><html><head><title></title></head><body aria-disabled="false"><p data-end="226" data-start="83">Join us for a fun and stylish evening at a private screening of <em data-end="172" data-start="147">The Devil Wears Prada 2</em>\, benefiting the RASM REALTORS&reg\; Charitable Foundation.</p><p data-end="471" data-start="228">Guests are invited to enjoy a night out celebrating the highly anticipated sequel to one of the most iconic fashion films of all time. Arrive early to walk the red carpet\, snap photos with friends\, and settle in for an entertaining experience.</p><p data-end="577" data-start="473">Your ticket includes unlimited champagne\, wine\, beer\, soda\, and popcorn\, along with entry into a raffle.</p><p data-end="903" data-start="579">Proceeds from this event support the RASM REALTORS&reg\; Charitable Foundation\, the 501(c)(3) charitable arm of the REALTOR&reg\; Association of Sarasota and Manatee. The Foundation provides funding for individuals and nonprofit organizations throughout Sarasota and Manatee Counties that enhance the quality of life in our community.</p><p data-end="1019" data-is-last-node="" data-is-only-node="" data-start="905">Whether you come dressed comfortably or inspired by your favorite fashion moments\, all levels of chic are welcome.<br><br><a fr-original-style="" href="https://www.myrasm.com/prada-and-popcorn" style="user-select: auto\;">https://www.myrasm.com/prada-and-popcorn</a></p></body></html>
LOCATION:
UID:e.4175.1437269
SEQUENCE:3
DTSTAMP:20260419T133433Z
URL:https://business.sarasotachamber.com/chamber-calendar/Details/prada-popcorn-a-private-screening-1701214?sourceTypeId=Hub
END:VEVENT
END:VCALENDAR
