BEGIN:VCALENDAR
VERSION:2.0
PRODID:-//ChamberMaster//Event Calendar 2.0//EN
METHOD:PUBLISH
X-PUBLISHED-TTL:P1H
REFRESH-INTERVAL:P1H
CALSCALE:GREGORIAN
BEGIN:VTIMEZONE
TZID:America/New_York
BEGIN:DAYLIGHT
RRULE:FREQ=YEARLY;BYMONTH=3;BYDAY=2SU
DTSTART:20070101T000000
TZOFFSETFROM:-0500
TZOFFSETTO:-0400
TZNAME:Eastern Daylight Time
END:DAYLIGHT
BEGIN:STANDARD
RRULE:FREQ=YEARLY;BYMONTH=11;BYDAY=1SU
DTSTART:20070101T000000
TZOFFSETFROM:-0400
TZOFFSETTO:-0500
TZNAME:Eastern Standard Time
END:STANDARD
END:VTIMEZONE
BEGIN:VEVENT
DTSTART;TZID=America/New_York:20260507T070000
DTEND;TZID=America/New_York:20260507T170000
X-MICROSOFT-CDO-ALLDAYEVENT:FALSE
SUMMARY:SHRM-Sarasota Annual Conference "When it matters most-Preparing HR for Crisis\, Compliance & Cyber Threats"
DESCRIPTION:Join us for the SHRM Sarasota Annual Conference 2026 a powerful day dedicated to equipping HR professionals with the tools\, insight\, and confidence to navigate today's most critical workplace challenges. Cost\; $150 for Members and $200 for non-members What to Expect: ✔️ Expert-led sessions on cybersecurity\, AI\, compliance & crisis management ✔️ Opening Keynote: James Ferguson (Confetti Culture)   Elevate the way you live\, lead\, and lift your teams ✔️ Jade Davis   HR at the intersection of data\, privacy & digital risk ✔️ James McDonald Jr.   Practical steps for effective performance improvement plans ✔️ Sarasota County Sheriff's Office   Active shooter response & HR's role ✔️ Closing Keynote: Mitch Lomazov   The power of body language in trust & credibility Plus: 🎟️ 50/50 raffle supporting Florida Children First 🎁 Sponsor Bingo & gift basket drawings 🍽️ Catered by Michael's On East 📚 Earn PDCs for SHRM & HRCI
X-ALT-DESC;FMTTYPE=text/html:<!DOCTYPE html><html><head><title></title></head><body aria-disabled="false"><p>Join us for the SHRM Sarasota Annual Conference 2026&mdash\;a powerful day dedicated to equipping HR professionals with the tools\, insight\, and confidence to navigate today&rsquo\;s most critical workplace challenges.</p><p>&nbsp\;Cost\; $150 for Members and $200 for non-members</p><p>&nbsp\;What to Expect: ✔️ Expert-led sessions on cybersecurity\, AI\, compliance &amp\; crisis management ✔️ Opening Keynote: James Ferguson (Confetti Culture) &ndash\; Elevate the way you live\, lead\, and lift your teams ✔️ Jade Davis &ndash\; HR at the intersection of data\, privacy &amp\; digital risk ✔️ James McDonald Jr. &ndash\; Practical steps for effective performance improvement plans ✔️ Sarasota County Sheriff&rsquo\;s Office &ndash\; Active shooter response &amp\; HR&rsquo\;s role ✔️ Closing Keynote: Mitch Lomazov &ndash\; The power of body language in trust &amp\; credibility Plus: 🎟️ 50/50 raffle supporting Florida Children First 🎁 Sponsor Bingo &amp\; gift basket drawings 🍽️ Catered by Michael&rsquo\;s On East 📚 Earn PDCs for SHRM &amp\; HRCI</p></body></html>
LOCATION:578 McIntosh Road Sarasota FL 34232
UID:e.4175.1440891
SEQUENCE:3
DTSTAMP:20260419T133951Z
URL:https://business.sarasotachamber.com/chamber-calendar/Details/shrm-sarasota-annual-conference-when-it-matters-most-preparing-hr-for-crisis-compliance-cyber-threats-1706093?sourceTypeId=Hub
END:VEVENT
END:VCALENDAR
