BEGIN:VCALENDAR
VERSION:2.0
PRODID:-//ChamberMaster//Event Calendar 2.0//EN
METHOD:PUBLISH
X-PUBLISHED-TTL:P1H
REFRESH-INTERVAL:P1H
CALSCALE:GREGORIAN
BEGIN:VTIMEZONE
TZID:America/New_York
BEGIN:DAYLIGHT
RRULE:FREQ=YEARLY;BYMONTH=3;BYDAY=2SU
DTSTART:20070101T000000
TZOFFSETFROM:-0500
TZOFFSETTO:-0400
TZNAME:Eastern Daylight Time
END:DAYLIGHT
BEGIN:STANDARD
RRULE:FREQ=YEARLY;BYMONTH=11;BYDAY=1SU
DTSTART:20070101T000000
TZOFFSETFROM:-0400
TZOFFSETTO:-0500
TZNAME:Eastern Standard Time
END:STANDARD
END:VTIMEZONE
BEGIN:VEVENT
DTSTART;TZID=America/New_York:20260410T080000
DTEND;TZID=America/New_York:20261023T170000
X-MICROSOFT-CDO-ALLDAYEVENT:FALSE
SUMMARY:The Ballroom Blitz Gala 2026
DESCRIPTION:Ballroom Blitz is an electrifying evening where the art of dance meets the power of philanthropy\, all in support of Parkinson Place Center for All Movement Disorders and its mission to improve the lives of those living with Parkinson's disease all at no cost to members.  Inspired by the glamour of "Dancing with the Stars\, " this one-of-a-kind gala pairs local celebrity dancers with professional ballroom partners to deliver show-stopping performances.
X-ALT-DESC;FMTTYPE=text/html:Ballroom Blitz is an electrifying evening where the art of dance meets the power of philanthropy\, all in support of Parkinson Place Center for All Movement Disorders and its mission to improve the lives of those living with Parkinson's disease all at no cost to members.  Inspired by the glamour of "Dancing with the Stars\, " this one-of-a-kind gala pairs local celebrity dancers with professional ballroom partners to deliver show-stopping performances.
LOCATION:3650 17th St. Sarasota FL 34235
UID:e.4175.1440701
SEQUENCE:3
DTSTAMP:20260419T133646Z
URL:https://business.sarasotachamber.com/chamber-calendar/Details/the-ballroom-blitz-gala-2026-1705862?sourceTypeId=Hub
END:VEVENT
END:VCALENDAR
